BEGIN:VCALENDAR
VERSION:2.0
PRODID:-//Mind
CALSCALE:GREGORIAN
METHOD:PUBLISH
X-WR-CALNAME:Mind
X-ORIGINAL-URL:https://mind.scuoladicucinaroma.com/corsi/pasticceria-siciliana-cannoli-brioche-col-tuppo-cassata-al-forno-2/
X-WR-CALDESC:Pasticceria siciliana: cannoli,  brioche col tuppo, cassata al forno
BEGIN:VTIMEZONE
TZID:Europe/Helsinki
END:VTIMEZONE
BEGIN:VEVENT
DTSTART;TZID=Europe/Helsinki:20261024T103000
DTEND;TZID=Europe/Helsinki:20261024T133000
DTSTAMP:20260425T114812
UID:4279-max.rov81@tiscali.it
SUMMARY:Pasticceria siciliana: cannoli,  brioche col tuppo, cassata al forno
DESCRIPTION:✨ Corso di Pasticceria Siciliana ✨ Un viaggio nei sapori autentici della tradizione! Se ami i dolci siciliani e vuoi imparare a prepararli con le tue mani, questo corso è pensato per te.Sotto la guida esperta dellla chef palermitana, Roberta D'Ancona, realizzeremo tre capolavori simbolo dell’isola:🍊 Cannolo siciliano – con cialda croccante e ricotta cremosa🍑 Brioche col tuppo – soffice e profumata, perfetta con la granita🌿 Cassata al forno – il dolce barocco per eccellenza, ricco di storia e gusto
URL:https://mind.scuoladicucinaroma.com/corsi/pasticceria-siciliana-cannoli-brioche-col-tuppo-cassata-al-forno-2/
LOCATION:
END:VEVENT
END:VCALENDAR
