BEGIN:VCALENDAR
VERSION:2.0
PRODID:-//Mind
CALSCALE:GREGORIAN
METHOD:PUBLISH
X-WR-CALNAME:Mind
X-ORIGINAL-URL:https://mind.scuoladicucinaroma.com/corsi/cereali-alternativi-legumi-e-patate-2/
X-WR-CALDESC:Cereali alternativi, Legumi e Patate
BEGIN:VTIMEZONE
TZID:Europe/Helsinki
END:VTIMEZONE
BEGIN:VEVENT
DTSTART;TZID=Europe/Helsinki:20260319T190000
DTEND;TZID=Europe/Helsinki:20260319T220000
DTSTAMP:20260421T082603
UID:2724-max.rov81@tiscali.it
SUMMARY:Cereali alternativi, Legumi e Patate
DESCRIPTION:Un corso di cucina dedicato ai cereali alternativi, legumi e patate, per una vera dieta mediterranea che riduce le proteine animali . Gustosi, nutrienti, fanno solo bene. Fonte primaria  di carboidrati, fibre, vitamine, ferro, calcio e fosforo: proteine vegetali che, a differenza di quelle animali, sono più facili da assimilare e, di conseguenza, non affaticano il fegato. Un modo di mangiare così antico diventato modernissimo. n corso base di cucina per imparare a scegliere ed acquistare questi preziosi ingredienti e a riconoscere le diverse varietà.  Ce ne sono davvero tante! Si consiglia di portare un grembiule da cucina. Esistono oltre tremila tipologie di patate,  anche se noi mangiamo sempre alcune tipologie coltivate ormai da anni in Italia, le loro proprietà nutrizionali sono proporzionali al loro gusto e alla versatilità in cucina. Anche se non siete intolleranti al glutine, l'uso di cereali alternativi è molto consigliato per variare la dieta ed arricchire la propria alimentazione di sostanze nutrienti e di gusto.
URL:https://mind.scuoladicucinaroma.com/corsi/cereali-alternativi-legumi-e-patate-2/
LOCATION:
END:VEVENT
END:VCALENDAR
